BEGIN:VCALENDAR
VERSION:2.0
CALSCALE:GREGORIAN
METHOD:PUBLISH
PRODID://IASA//387271
BEGIN:VEVENT
DTSTAMP:20260422T061517
VTIMEZONE:America/Denver
DTSTART:20251027T143000Z
DTEND:20251029T203000Z
UID:387271
SUMMARY:Project Leadership 2025
LOCATION:Sun Valley Inn & Lodge , 1 Sun Valley Rd, Sun Valley, ID, 83353
DESCRIPTION:Project Leadership 2025\n\n10/27/25 08:30 AM MST\n - 10/29/25 02:30 PM MST\Description:\nWHAT IS IT?\n\nProject Leadership is a three-year training program for all levels of school administrators in Idaho and is sponsored by the Idaho Association of School Administrators. Superintendents throughout the state have sent their school and central office administrators to this program for nearly thirty years.  Approximately 800 participants have graduated from Project Leadership.\n\n \n\Location:\nSun Valley Inn & Lodge \n1 Sun Valley Rd\nSun Valley, ID 83353
X-ALT-DESC;FMTTYPE=text/html:Project Leadership 2025<br /><br />10/27/25 08:30 AM MST - 10/29/25 02:30 PM MST<br />Description:<br /><p><strong>WHAT IS IT?</strong></p>

<p>Project Leadership is a&nbsp;three-year&nbsp;training program for all levels of school administrators in&nbsp;Idaho&nbsp;and is sponsored by the Idaho Association of School Administrators. Superintendents throughout the state have sent their school and central office administrators to this program for nearly thirty years.&nbsp; Approximately 800 participants have graduated from Project Leadership.</p>

<p>&nbsp;</p>
<br />Location:<br />Sun Valley Inn & Lodge <br />1 Sun Valley Rd<br />Sun Valley, ID 83353
PRIORITY:3
TRANSP:TRANSPARENT
BEGIN:VALARM
TRIGGER:-PT5M
ACTION:DISPLAY
DESCRIPTION:Reminder
END:VALARM
END:VEVENT
END:VCALENDAR
